BEGIN:VCALENDAR
PRODID:-//github.com/rianjs/ical.net//NONSGML ical.net 4.0//EN
VERSION:2.0
BEGIN:VEVENT
CLASS:PUBLIC
CREATED:20260421T180609Z
DESCRIPTION:Details: https://clients.virginiasbdc.org/workshop.aspx?ekey=1
 40460014\n\nTuesday\, July 14\, 2026 9:00 AM to 12:30 PM Eastern\nThe spe
 aker\, Randy Sparks\, Jr.\, will address basic human resource topics that
  all business owners should be familiar with. In these uncertain times\, 
 it is more important than ever to stay in compliance with Virginia and fe
 deral labor regulations.  To ensure that your business is compliant\, ple
 ase join us for "Understanding Employment Regulations."\n\nTopics Covered
 :\n\n- What information can I request in an application or during an inte
 rview?\n- Are my workers employees or independent contractors?\n- What do
 cumentation must I keep and for how long?\n- Can I make my employees sign
  non-compete and non-disclosure agreements?\n- How can I fire an employee
  without having to pay unemployment compensation?\n- What am I required t
 o do to insure employee safety from coronavirus?\n\nAll those who registe
 r and pay for the course will receive an email containing the Zoom link w
 ill be sent to you by sball2@umw.edu the day before the class.\n\nIf you 
 need further assistance or have a question\, please contact us at (540) 6
 54-1383.\n\n\n
DTEND:20260714T163000Z
DTSTAMP:20260421T180609Z
DTSTART:20260714T130000Z
LAST-MODIFIED:20260123T172935Z
LOCATION:Online - Online
SEQUENCE:0
STATUS:CONFIRMED
SUMMARY:Understanding Employment Regulations
UID:clients.virginiasbdc.org/workshop.aspx?ekey=140460014
URL:https://clients.virginiasbdc.org/workshop.aspx?ekey=140460014
X-ALT-DESC;FMTTYPE=text/html:<p>Details: https://clients.virginiasbdc.org/
 workshop.aspx?ekey=140460014</p><p>Tuesday\, July 14\, 2026 9:00 AM to 12
 :30 PM Eastern</p>\n<p>The speaker\, Randy Sparks\, Jr.\, will address ba
 sic human resource topics that all business owners should be familiar wit
 h. In these uncertain times\, it is more important than ever to stay in c
 ompliance with Virginia and federal labor regulations.  To ensure that yo
 ur business is compliant\, please join us for &quot\;Understanding Employ
 ment Regulations.&quot\;</p>\n<p>Topics Covered:</p>\n<ul>\n<li>What info
 rmation can I request in an application or during an interview?</li>\n<li
 >Are my workers employees or independent contractors?</li>\n<li>What docu
 mentation must I keep and for how long?</li>\n<li>Can I make my employees
  sign non-compete and non-disclosure agreements?</li>\n<li>How can I fire
  an employee without having to pay unemployment compensation?</li>\n<li>W
 hat am I required to do to insure employee safety from coronavirus?</li>\
 n</ul>\n\n\n<p>All those who register and pay for the course will receive
  an email containing the Zoom link will be sent to you by sball2@umw.edu 
 the day before the class.</p>\n<p>If you need further assistance or have 
 a question\, please contact us at (540) 654-1383.</p>\n\n
END:VEVENT
END:VCALENDAR
