BEGIN:VCALENDAR
PRODID:-//github.com/rianjs/ical.net//NONSGML ical.net 4.0//EN
VERSION:2.0
BEGIN:VEVENT
CLASS:PUBLIC
CREATED:20260421T234932Z
DESCRIPTION:Details: https://clients.virginiasbdc.org/workshop.aspx?ekey=1
 40460021\n\nTuesday\, May 19\, 2026 12:00 PM to 1:00 PM Eastern\n\n\nUMW 
 SBDC Office is inviting you to a scheduled Zoom meeting.\n\nTopic: Unders
 tanding Personal Credit\nTime: May 19\, 2026 12:00 PM Eastern Time (US an
 d Canada)\nJoin Zoom Meeting\nhttps://zoom.us/j/98680352244?pwd=2bakqIeBI
 u2X6evNqOuH0f9pCCa6Vp.1\n\nMeeting ID: 986 8035 2244\nPasscode: 428230\n\
 n\nUnderstanding your personal credit can be daunting\, but it is also an
  integral factor to the success of your small business. \n\nJoin us for a
  Lunch & Learn event where we teach you:\n• Why Business lenders care abo
 ut your Personal Credit\n• The difference between a credit report and a c
 redit score\n• How your credit score affects getting credit\, buying a bu
 siness\, or establishing vendor relationships\n• What factors positively 
 and negatively impact your credit and how to maintain good credit\n• The 
 importance of reviewing credit reports regularly and how to request free 
 reports annually
DTEND:20260519T170000Z
DTSTAMP:20260421T234932Z
DTSTART:20260519T160000Z
LAST-MODIFIED:20260420T200634Z
LOCATION:University of Mary Washington SBDC - 1125 Emancipation Highway\nS
 uite 400\nFredericksburg\, VA 22401
SEQUENCE:0
STATUS:CONFIRMED
SUMMARY:Understanding Personal Credit--Virtual Lunch and Learn
UID:clients.virginiasbdc.org/workshop.aspx?ekey=140460021
URL:https://clients.virginiasbdc.org/workshop.aspx?ekey=140460021
X-ALT-DESC;FMTTYPE=text/html:<p>Details: https://clients.virginiasbdc.org/
 workshop.aspx?ekey=140460021</p><p>Tuesday\, May 19\, 2026 12:00 PM to 1:
 00 PM Eastern</p>\n\n\n<p>UMW SBDC Office is inviting you to a scheduled 
 Zoom meeting.</p>\n<p>Topic: Understanding Personal Credit\nTime: May 19\
 , 2026 12:00 PM Eastern Time (US and Canada)\nJoin Zoom Meeting\nhttps://
 zoom.us/j/98680352244?pwd=2bakqIeBIu2X6evNqOuH0f9pCCa6Vp.1</p>\n<p>Meetin
 g ID: 986 8035 2244\nPasscode: 428230</p>\n\n
END:VEVENT
END:VCALENDAR
