BEGIN:VCALENDAR
PRODID:-//github.com/rianjs/ical.net//NONSGML ical.net 4.0//EN
VERSION:2.0
BEGIN:VEVENT
CLASS:PUBLIC
CREATED:20260421T083234Z
DESCRIPTION:Details: https://clients.virginiasbdc.org/workshop.aspx?ekey=1
 40460022\n\nWednesday\, June 17\, 2026 12:00 PM to 1:00 PM Eastern\nTopic
 : Navigating the New SBA Veteran Owned Small Business/ Service Disabled V
 eteran Owned Small Business (VOSB/SDVOSB) Certification\n\nThe SBA overse
 es the certification of Veteran Owned Small Business/ Service Disabled Ve
 teran Owned Small Business (VOSB/SDVOSB) for set-aside opportunities with
  the government. This class will walk you through the new application and
  give you advise on how to properly submit your application.  In this cla
 ss you will learn:\n\n•	Where to access the portal for application submis
 sion\n\n•	How to manage the required data\n\n•	What documents will be nee
 ded\n\n•	Eligibility guidelines\n\nUMW SBDC Office is inviting you to a s
 cheduled Zoom meeting.\n\nTopic: GovCon--VOSB/SDVOSB\nTime: Jun 17\, 2026
  12:00 PM Eastern Time (US and Canada)\nJoin Zoom Meeting\nhttps://zoom.u
 s/j/96976891994?pwd=KnSMxTY5iMg8hI30mOnAbRmXpSQqbF.1\n\nMeeting ID: 969 7
 689 1994\nPasscode: 205021\n\n\n
DTEND:20260617T170000Z
DTSTAMP:20260421T083234Z
DTSTART:20260617T160000Z
LAST-MODIFIED:20260407T202907Z
LOCATION:Online - Online
SEQUENCE:0
STATUS:CONFIRMED
SUMMARY:GovCon: VOSB/SDVOSB
UID:clients.virginiasbdc.org/workshop.aspx?ekey=140460022
URL:https://clients.virginiasbdc.org/workshop.aspx?ekey=140460022
X-ALT-DESC;FMTTYPE=text/html:<p>Details: https://clients.virginiasbdc.org/
 workshop.aspx?ekey=140460022</p><p>Wednesday\, June 17\, 2026 12:00 PM to
  1:00 PM Eastern</p>\n<p>Topic: Navigating the New SBA Veteran Owned Smal
 l Business/ Service Disabled Veteran Owned Small Business (VOSB/SDVOSB) C
 ertification</p>\n<p>The SBA oversees the certification of Veteran Owned 
 Small Business/ Service Disabled Veteran Owned Small Business (VOSB/SDVOS
 B) for set-aside opportunities with the government. This class will walk 
 you through the new application and give you advise on how to properly su
 bmit your application.  In this class you will learn:</p>\n<p>•	Where to 
 access the portal for application submission</p>\n<p>•	How to manage the 
 required data</p>\n<p>•	What documents will be needed</p>\n<p>•	Eligibili
 ty guidelines</p>\n\n\n<p>UMW SBDC Office is inviting you to a scheduled 
 Zoom meeting.</p>\n<p>Topic: GovCon--VOSB/SDVOSB\nTime: Jun 17\, 2026 12:
 00 PM Eastern Time (US and Canada)\nJoin Zoom Meeting\nhttps://zoom.us/j/
 96976891994?pwd=KnSMxTY5iMg8hI30mOnAbRmXpSQqbF.1</p>\n<p>Meeting ID: 969 
 7689 1994\nPasscode: 205021</p>\n\n
END:VEVENT
END:VCALENDAR
