BEGIN:VCALENDAR
PRODID:-//github.com/rianjs/ical.net//NONSGML ical.net 4.0//EN
VERSION:2.0
BEGIN:VEVENT
CLASS:PUBLIC
CREATED:20260421T175239Z
DESCRIPTION:Details: https://clients.virginiasbdc.org/workshop.aspx?ekey=1
 40460023\n\nWednesday\, July 15\, 2026 12:00 PM to 1:00 PM Eastern\nThe F
 ederal Government has contracting goals for Women\, Minorities\, Service 
 Disabled Veterans and HUBZone located small businesses. These set asides 
 are a great way to gain entry into the complex world of Federal contracti
 ng.  This class will introduce you to the HUBZone certification. We will 
 cover these key areas:\n \n• Eligibility requirements for HUBZone\n• Unde
 rstanding the application process\n• Understanding how to prepare before 
 applying\n• Staying Certified\n \nDon’t miss out on this informative pres
 entation on how you can take advantage of the SBA’s socio-economic small 
 business set-asides.\n\nThank you for registering for the webinar. Below 
 are the Zoom details.\n\nTopic: GovCon--HUBZone\nTime: Jul 15\, 2026 12:0
 0 PM Eastern Time (US and Canada)\nJoin Zoom Meeting\nhttps://zoom.us/j/9
 9602861655?pwd=ZY6KGSP6AHBTVqrIVHvRHK6FSXVKoC.1\n\nMeeting ID: 996 0286 1
 655\nPasscode: 310855\n\n\n
DTEND:20260715T170000Z
DTSTAMP:20260421T175239Z
DTSTART:20260715T160000Z
LAST-MODIFIED:20260407T163555Z
LOCATION:Online - Online
SEQUENCE:0
STATUS:CONFIRMED
SUMMARY:GovCon: HUBZone
UID:clients.virginiasbdc.org/workshop.aspx?ekey=140460023
URL:https://clients.virginiasbdc.org/workshop.aspx?ekey=140460023
X-ALT-DESC;FMTTYPE=text/html:<p>Details: https://clients.virginiasbdc.org/
 workshop.aspx?ekey=140460023</p><p>Wednesday\, July 15\, 2026 12:00 PM to
  1:00 PM Eastern</p>\n<p>The Federal Government has contracting goals for
  Women\, Minorities\, Service Disabled Veterans and HUBZone located small
  businesses. These set asides are a great way to gain entry into the comp
 lex world of Federal contracting.  This class will introduce you to the H
 UBZone certification. We will cover these key areas:</p>\n<p>• Eligibilit
 y requirements for HUBZone\n• Understanding the application process\n• Un
 derstanding how to prepare before applying\n• Staying Certified</p>\n<p>D
 on’t miss out on this informative presentation on how you can take advant
 age of the SBA’s socio-economic small business set-asides.</p>\n\n\n<p>Th
 ank you for registering for the webinar. Below are the Zoom details.</p>\
 n<p>Topic: GovCon--HUBZone\nTime: Jul 15\, 2026 12:00 PM Eastern Time (US
  and Canada)\nJoin Zoom Meeting\nhttps://zoom.us/j/99602861655?pwd=ZY6KGS
 P6AHBTVqrIVHvRHK6FSXVKoC.1</p>\n<p>Meeting ID: 996 0286 1655\nPasscode: 3
 10855</p>\n\n
END:VEVENT
END:VCALENDAR
