BEGIN:VCALENDAR
PRODID:-//github.com/rianjs/ical.net//NONSGML ical.net 4.0//EN
VERSION:2.0
BEGIN:VEVENT
CLASS:PUBLIC
CREATED:20260421T175442Z
DESCRIPTION:Details: https://clients.virginiasbdc.org/workshop.aspx?ekey=1
 40460026\n\nTuesday\, July 14\, 2026 9:00 AM to 1:00 PM Eastern\nThis fou
 r-hour workshop covers the development of the business plan and financial
  forecasting of the business plan. Please be prepared to begin working on
  your business plan during the class. We will start by opening a Microsof
 t Word or Google Doc for you to add information to as we proceed through 
 the workshop. By the end of the workshop you will have completed a rough 
 draft of a portion of the business plan and have clear direction which ar
 eas you need to conduct research and add additional information to in ord
 er to complete.\n\nTakeaways:\n\n- Research tools\n- Business plan compon
 ents \n- Business concept \n- Financial plan \n- Supporting documents\n\n
 Once registered and payment is received\, an email containing the Zoom li
 nk and resources will be sent to you by bguzman2@umw.edu the day or eveni
 ng before the class. Please be sure to pay once you receive the link and 
 check your Spam folder for all emails.\n\nIf you need further assistance 
 or have a question\, please contact us at (540) 654-1383\n\n\n
DTEND:20260714T170000Z
DTSTAMP:20260421T175442Z
DTSTART:20260714T130000Z
LAST-MODIFIED:20260414T122638Z
LOCATION:Online - Online
SEQUENCE:0
STATUS:CONFIRMED
SUMMARY:Blue Print Business Plan Workshop
UID:clients.virginiasbdc.org/workshop.aspx?ekey=140460026
URL:https://clients.virginiasbdc.org/workshop.aspx?ekey=140460026
X-ALT-DESC;FMTTYPE=text/html:<p>Details: https://clients.virginiasbdc.org/
 workshop.aspx?ekey=140460026</p><p>Tuesday\, July 14\, 2026 9:00 AM to 1:
 00 PM Eastern</p>\n<p>This four-hour workshop covers the development of t
 he business plan and financial forecasting of the business plan. Please b
 e prepared to begin working on your business plan during the class. We wi
 ll start by opening a Microsoft Word or Google Doc for you to add informa
 tion to as we proceed through the workshop. By the end of the workshop yo
 u will have completed a rough draft of a portion of the business plan and
  have clear direction which areas you need to conduct research and add ad
 ditional information to in order to complete.</p>\n<p>Takeaways:</p>\n<ul
 >\n<li>Research tools</li>\n<li>Business plan components</li>\n<li>Busine
 ss concept</li>\n<li>Financial plan</li>\n<li>Supporting documents</li>\n
 </ul>\n\n\n<p>Once registered and payment is received\, an email containi
 ng the Zoom link and resources will be sent to you by bguzman2@umw.edu th
 e day or evening before the class. Please be sure to pay once you receive
  the link and check your Spam folder for all emails.</p>\n<p>If you need 
 further assistance or have a question\, please contact us at (540) 654-13
 83</p>\n\n
END:VEVENT
END:VCALENDAR
